BEGIN:VCALENDAR
VERSION:2.0
PRODID:-//Plone.org//NONSGML plone.app.event//EN
X-WR-TIMEZONE:Europe/Berlin
BEGIN:VEVENT
SUMMARY:7. Workshop M&S 2014
DTSTART;VALUE=DATE:20140120
DTEND;VALUE=DATE:20140122
DTSTAMP;VALUE=DATE-TIME:20260419T163215Z
UID:2e5ea80ac3cb4f7ebb20053eb766b6d4@www.rz.unibw-muenchen.de
CONTACT:Kornelia Mattausch\, kornelia.mattausch@unibw.de
CREATED;VALUE=DATE-TIME:20210214T193748Z
DESCRIPTION:20. 01. 2014 – 21. 01. 2014. Workshop zum Thema: Evaluation 
 komplexer Systeme und Prozesse durch Modellbildung und Simulation
LAST-MODIFIED;VALUE=DATE-TIME:20210323T182321Z
LOCATION:Uni-Casino
URL:https://www.rz.unibw-muenchen.de/itis/veranstaltungen/workshops-m-s/7-
 workshop-m-s/7-workshop-m-s-2014
END:VEVENT
END:VCALENDAR
