BEGIN:VCALENDAR
VERSION:2.0
PRODID:-//Plone.org//NONSGML plone.app.event//EN
X-WR-TIMEZONE:Europe/Berlin
BEGIN:VEVENT
SUMMARY:13. Workshop M&S 2020
DTSTART;VALUE=DATE:20200120
DTEND;VALUE=DATE:20200122
DTSTAMP;VALUE=DATE-TIME:20260419T145402Z
UID:6eebdcc99cf44af283cfcc29fa9df8cd@www.rz.unibw-muenchen.de
CREATED;VALUE=DATE-TIME:20210323T182041Z
DESCRIPTION:20.01.2020 – 21.01.2020. Themen: 1. Künstliche Intelligenz:
  Hype oder Realität? \n2. Digitalisierung der Streitkräfte und Aktuelles
  aus F&T
LAST-MODIFIED;VALUE=DATE-TIME:20210323T182041Z
LOCATION:Uni-Casino
URL:https://www.rz.unibw-muenchen.de/itis/veranstaltungen/workshops-m-s/13
 -workshop-m-s/13-workshop-m-s-2020
END:VEVENT
END:VCALENDAR
