BEGIN:VCALENDAR
VERSION:2.0
PRODID:-//Plone.org//NONSGML plone.app.event//EN
X-WR-TIMEZONE:Europe/Berlin
BEGIN:VEVENT
SUMMARY:05.-08.09.2022 Graphene Week 2022
DTSTART;VALUE=DATE:20220905
DTEND;VALUE=DATE:20220909
DTSTAMP;VALUE=DATE-TIME:20260419T091937Z
UID:133229d0980e48f5bdd500dfd4fdc9cb@www.rz.unibw-muenchen.de
CREATED;VALUE=DATE-TIME:20220222T134346Z
LAST-MODIFIED;VALUE=DATE-TIME:20220222T134346Z
URL:https://www.rz.unibw-muenchen.de/itis/veranstaltungen/sonstige-veranst
 altungen/05-08-09-2022-graphene-week-2022
END:VEVENT
END:VCALENDAR
