BEGIN:VCALENDAR
VERSION:2.0
PRODID:-//Plone.org//NONSGML plone.app.event//EN
X-WR-TIMEZONE:Europe/Berlin
BEGIN:VEVENT
SUMMARY:The Munich Satellite Navigation Summit 2021
DTSTART;VALUE=DATE:20210316
DTEND;VALUE=DATE:20210318
DTSTAMP;VALUE=DATE-TIME:20260419T145332Z
UID:e2e8f39a52584c94827199562f654f37@www.rz.unibw-muenchen.de
CONTACT:+49-(0)89-6004 3425\, info@munich-satellite-navigation-summit.org\
 , https://www.munich-satellite-navigation-summit.org/
CREATED;VALUE=DATE-TIME:20210308T123434Z
DESCRIPTION:16.–17.03.2021 Conference with global impact dealing with sa
 tellite navigation now and in the future.
LAST-MODIFIED;VALUE=DATE-TIME:20220222T132740Z
LOCATION:online
URL:https://www.rz.unibw-muenchen.de/itis/veranstaltungen/munich-satellite
 -navigation-summit/the-munich-satellite-navigation-summit
END:VEVENT
END:VCALENDAR
