BEGIN:VCALENDAR
VERSION:2.0
PRODID:-//Plone.org//NONSGML plone.app.event//EN
X-WR-TIMEZONE:Europe/Berlin
BEGIN:VEVENT
SUMMARY:Ordentliche ITIS-Mitgliederversammlung 2020/2021
DTSTART;TZID=Europe/Berlin;VALUE=DATE-TIME:20210702T140000
DTEND;TZID=Europe/Berlin;VALUE=DATE-TIME:20210702T160000
DTSTAMP;VALUE=DATE-TIME:20260419T145506Z
UID:e6512d440b024f5ab76ca62df200c81a@www.rz.unibw-muenchen.de
CREATED;VALUE=DATE-TIME:20210315T220731Z
DESCRIPTION:02.07.2021          14.00 - 16.00 Uhr\n\n* In diesem Jahr find
 et die Mitgliederversammlung  online statt. Die Einladung wurde bereits ve
 rschickt.
LAST-MODIFIED;VALUE=DATE-TIME:20210624T083409Z
LOCATION:online
URL:https://www.rz.unibw-muenchen.de/itis/veranstaltungen/interne-veransta
 ltungen/interne-beispiel-veranstaltung
END:VEVENT
BEGIN:VTIMEZONE
TZID:Europe/Berlin
X-LIC-LOCATION:Europe/Berlin
BEGIN:DAYLIGHT
DTSTART;VALUE=DATE-TIME:20210328T030000
TZNAME:CEST
TZOFFSETFROM:+0100
TZOFFSETTO:+0200
END:DAYLIGHT
END:VTIMEZONE
END:VCALENDAR
