BEGIN:VCALENDAR
VERSION:2.0
PRODID:-//Plone.org//NONSGML plone.app.event//EN
X-WR-TIMEZONE:Europe/Berlin
BEGIN:VEVENT
SUMMARY:Capture the Flag: Cube - Apocalypse
DTSTART;VALUE=DATE:20210323
DTEND;VALUE=DATE:20210325
DTSTAMP;VALUE=DATE-TIME:20260419T144951Z
UID:88da78b81ff141e2962b0ef844a4d822@www.rz.unibw-muenchen.de
CONTACT:https://www.unibw.de/code/events/ctf
CREATED;VALUE=DATE-TIME:20210315T215850Z
DESCRIPTION:23.04. - 24.04. 2021
LAST-MODIFIED;VALUE=DATE-TIME:20210419T101057Z
URL:https://www.rz.unibw-muenchen.de/itis/veranstaltungen/code-jahrestagun
 g/code-beispiel-termin
END:VEVENT
END:VCALENDAR
