BEGIN:VCALENDAR
VERSION:2.0
PRODID:-//Plone.org//NONSGML plone.app.event//EN
X-WR-TIMEZONE:Europe/Berlin
BEGIN:VEVENT
SUMMARY:Scharfe Disziplin. Gewalttätige Normendurchsetzung durch die frü
 hneuzeitliche Militärjustiz
DTSTART;TZID=Europe/Berlin;VALUE=DATE-TIME:20211203T113000
DTEND;TZID=Europe/Berlin;VALUE=DATE-TIME:20211203T123000
DTSTAMP;VALUE=DATE-TIME:20260420T133139Z
UID:e0a47e6fb735494e99620e058d0ceba5@www.rz.unibw-muenchen.de
CONTACT:Geschichte der Frühen Neuzeit\, geschichtefnz@unibw.de
CREATED;VALUE=DATE-TIME:20210909T103451Z
DESCRIPTION:Freitag\, 03.12.2021\, 11.30-12.30 Uhr: Prof. Dr. Jutta Nowosa
 dtko (Helmut-Schmidt-Universität der Bundeswehr\, Hamburg) trägt zu "Sch
 arfe Disziplin. Gewalttätige Normendurchsetzung durch die frühneuzeitlic
 he Militärjustiz" vor.
LAST-MODIFIED;VALUE=DATE-TIME:20211015T080847Z
LOCATION:online (Zoom)
URL:https://www.rz.unibw-muenchen.de/geschichte/prof/fnz/aktuell/vortrag-p
 rof-dr-jutta-nowosadtko
END:VEVENT
BEGIN:VTIMEZONE
TZID:Europe/Berlin
X-LIC-LOCATION:Europe/Berlin
BEGIN:STANDARD
DTSTART;VALUE=DATE-TIME:20211031T020000
TZNAME:CET
TZOFFSETFROM:+0200
TZOFFSETTO:+0100
END:STANDARD
END:VTIMEZONE
END:VCALENDAR
