BEGIN:VCALENDAR
VERSION:2.0
PRODID:-//Plone.org//NONSGML plone.app.event//EN
X-WR-TIMEZONE:Europe/Berlin
BEGIN:VEVENT
SUMMARY:Kulturelle Traditionen von Gewaltgemeinschaften: Geschichte und My
 thenbildung um die Kosaken in der Ukraine und Russland
DTSTART;TZID=Europe/Berlin;VALUE=DATE-TIME:20220706T113000
DTEND;TZID=Europe/Berlin;VALUE=DATE-TIME:20220706T123000
DTSTAMP;VALUE=DATE-TIME:20260420T133341Z
UID:4f0acea1460d45a1baaad1d3c4582cf3@www.rz.unibw-muenchen.de
CONTACT:Anke Fischer-Kattner\, anke.kattner@unibw.de
CREATED;VALUE=DATE-TIME:20220620T163143Z
DESCRIPTION:Mittwoch\, 06.07.2022\, 11:30-12:30 Uhr: Prof. Dr. Hans-Jürge
 n Bömelburg (Justus-Liebig-Universität Gießen) trägt zu "Kulturelle Tr
 aditionen von Gewaltgemeinschaften: Geschichte und Mythenbildung um die Ko
 saken in der Ukraine und Russland" vor.
LAST-MODIFIED;VALUE=DATE-TIME:20220704T153431Z
LOCATION:online (Zoom)
URL:https://www.rz.unibw-muenchen.de/geschichte/prof/fnz/aktuell/kulturell
 e-traditionen-von-gewaltgemeinschaften-geschichte-und-mythenbildung-um-die
 -kosaken-in-der-ukraine-und-russland
END:VEVENT
BEGIN:VTIMEZONE
TZID:Europe/Berlin
X-LIC-LOCATION:Europe/Berlin
BEGIN:DAYLIGHT
DTSTART;VALUE=DATE-TIME:20220327T030000
TZNAME:CEST
TZOFFSETFROM:+0100
TZOFFSETTO:+0200
END:DAYLIGHT
END:VTIMEZONE
END:VCALENDAR
