BEGIN:VCALENDAR
VERSION:2.0
PRODID:-//Plone.org//NONSGML plone.app.event//EN
X-WR-TIMEZONE:Europe/Berlin
BEGIN:VEVENT
SUMMARY:Der laute Krieg und die Laute des Krieges. Zur Belliphonie im Mitt
 elalter
DTSTART;TZID=Europe/Berlin;VALUE=DATE-TIME:20230215T113000
DTEND;TZID=Europe/Berlin;VALUE=DATE-TIME:20230215T123000
DTSTAMP;VALUE=DATE-TIME:20260420T113156Z
UID:c9c09bb9e64b4b4795c2a567f40a5968@www.rz.unibw-muenchen.de
CONTACT:Anke Fischer-Kattner\, anke.kattner@unibw.de\, https://terminplane
 r.dfn.de/ptMWZqsx49Hs842u
CREATED;VALUE=DATE-TIME:20221208T162825Z
DESCRIPTION:Mittwoch\, 15.02.2023\, 11.30-12.30 Uhr: Prof. Dr. Martin Clau
 ss (TU Chemnitz) geht in seinem Vortrag der Frage nach\, wie die Laute des
  Krieges als Kommunikations- und Distinktionsinstrumente soziale Räume sc
 hufen und strukturierten.
LAST-MODIFIED;VALUE=DATE-TIME:20221215T141351Z
LOCATION:online (Zoom)
URL:https://www.rz.unibw-muenchen.de/geschichte/prof/fnz/aktuell/der-laute
 -krieg-und-die-laute-des-krieges-zur-belliphonie-im-mittelalter
END:VEVENT
BEGIN:VTIMEZONE
TZID:Europe/Berlin
X-LIC-LOCATION:Europe/Berlin
BEGIN:STANDARD
DTSTART;VALUE=DATE-TIME:20221030T020000
TZNAME:CET
TZOFFSETFROM:+0200
TZOFFSETTO:+0100
END:STANDARD
END:VTIMEZONE
END:VCALENDAR
