BEGIN:VCALENDAR
VERSION:2.0
PRODID:-//Plone.org//NONSGML plone.app.event//EN
X-WR-TIMEZONE:Europe/Berlin
BEGIN:VEVENT
SUMMARY:Der Krieg in der Ukraine: Geschichtsnarrative und Erinnerungskonfl
 ikte
DTSTART;TZID=Europe/Berlin;VALUE=DATE-TIME:20221109T113000
DTEND;TZID=Europe/Berlin;VALUE=DATE-TIME:20221109T123000
DTSTAMP;VALUE=DATE-TIME:20260420T133130Z
UID:0e3b05492e1a46b98c556951889432dd@www.rz.unibw-muenchen.de
CONTACT:Anke Fischer-Kattner\, anke.kattner@unibw.de\, https://terminplane
 r.dfn.de/ptMWZqsx49Hs842u
CREATED;VALUE=DATE-TIME:20220916T150438Z
DESCRIPTION:Mittwoch\, 09.11.2022\, 11:30-12:30 Uhr:\nProf. Dr. Tanja Pent
 er (Ruprecht-Karls-Universität Heidelberg) stellt in ihrem Vortrag die ak
 tuelle Entwicklung des Kriegs in der Ukraine in den größeren Kontext der
  Entwicklung konkurrierender Geschichtsbilder und Erinnerungskulturen in d
 er Ukraine und Russland seit dem Ende der Sowjetunion.
LAST-MODIFIED;VALUE=DATE-TIME:20221014T130759Z
LOCATION:online (Zoom)
URL:https://www.rz.unibw-muenchen.de/geschichte/prof/fnz/aktuell/der-krieg
 -in-der-ukraine-geschichtsnarrative-und-erinnerungskonflikte
END:VEVENT
BEGIN:VTIMEZONE
TZID:Europe/Berlin
X-LIC-LOCATION:Europe/Berlin
BEGIN:STANDARD
DTSTART;VALUE=DATE-TIME:20221030T020000
TZNAME:CET
TZOFFSETFROM:+0200
TZOFFSETTO:+0100
END:STANDARD
END:VTIMEZONE
END:VCALENDAR
